BEGIN:VCALENDAR
VERSION:2.0
PRODID:-//eventon.com NONSGML v1.0//EN
BEGIN:VEVENT
UID:69e8c1ebc259b
DTSTAMP:20260422T074115
DTSTART:20191102T130000Z
DTEND:20191102T180000Z
LOCATION:
SUMMARY:Applebee's Pancake Breakfast - Statewide
DESCRIPTION: Use this statewide opportunity to raise money for your chapter and have fun! This event is perfect for all of the ND Chapters even if we don't have an Applebee's down the street or in our town. We can all reach out to the family\,  friends\,  and new acquaintances in[..]
END:VEVENT
END:VCALENDAR