BEGIN:VCALENDAR
VERSION:2.0
PRODID:-//eventon.com NONSGML v1.0//EN
BEGIN:VEVENT
UID:69e73a0531f12
DTSTAMP:20260421T034909
DTSTART:20220925T050000Z
DTEND:20221001T045900Z
LOCATION:
SUMMARY:Membership Recruitment Week
DESCRIPTION: September 25-30 Membership Recruitment Week
END:VEVENT
END:VCALENDAR